BEGIN:VCALENDAR
VERSION:2.0
PRODID:-//Special Olympics Washington - ECPv6.15.20//NONSGML v1.0//EN
CALSCALE:GREGORIAN
METHOD:PUBLISH
X-ORIGINAL-URL:https://specialolympicswashington.org
X-WR-CALDESC:Events for Special Olympics Washington
REFRESH-INTERVAL;VALUE=DURATION:PT1H
X-Robots-Tag:noindex
X-PUBLISHED-TTL:PT1H
BEGIN:VTIMEZONE
TZID:America/Los_Angeles
BEGIN:DAYLIGHT
TZOFFSETFROM:-0800
TZOFFSETTO:-0700
TZNAME:PDT
DTSTART:20250309T100000
END:DAYLIGHT
BEGIN:STANDARD
TZOFFSETFROM:-0700
TZOFFSETTO:-0800
TZNAME:PST
DTSTART:20251102T090000
END:STANDARD
BEGIN:DAYLIGHT
TZOFFSETFROM:-0800
TZOFFSETTO:-0700
TZNAME:PDT
DTSTART:20260308T100000
END:DAYLIGHT
BEGIN:STANDARD
TZOFFSETFROM:-0700
TZOFFSETTO:-0800
TZNAME:PST
DTSTART:20261101T090000
END:STANDARD
BEGIN:DAYLIGHT
TZOFFSETFROM:-0800
TZOFFSETTO:-0700
TZNAME:PDT
DTSTART:20270314T100000
END:DAYLIGHT
BEGIN:STANDARD
TZOFFSETFROM:-0700
TZOFFSETTO:-0800
TZNAME:PST
DTSTART:20271107T090000
END:STANDARD
END:VTIMEZONE
BEGIN:VEVENT
DTSTART;TZID=America/Los_Angeles:20260426T080000
DTEND;TZID=America/Los_Angeles:20260426T160000
DTSTAMP:20260420T012131
CREATED:20260330T224829Z
LAST-MODIFIED:20260330T225133Z
UID:23821-1777190400-1777219200@specialolympicswashington.org
SUMMARY:Southwest Athletics Regional Competition
DESCRIPTION:  \n 
URL:https://specialolympicswashington.org/event/southwest-athletics-regional-competition/
LOCATION:Mt. Tahoma High School\, 4634 S 74th Street\, Tacoma\, WA\, 98409\, United States
CATEGORIES:Sports/Competition
END:VEVENT
BEGIN:VEVENT
DTSTART;TZID=America/Los_Angeles:20260426T100000
DTEND;TZID=America/Los_Angeles:20260426T170000
DTSTAMP:20260420T012131
CREATED:20260330T225431Z
LAST-MODIFIED:20260330T225431Z
UID:23825-1777197600-1777222800@specialolympicswashington.org
SUMMARY:Southwest Soccer Regional Competition
DESCRIPTION:Southwest Regional Soccer Competition; qualifying competition for the 2026 Spring State Games. \nVolunteer support is needed at this event. If you’re interested in volunteering\, see our shifts here. \n  \n 
URL:https://specialolympicswashington.org/event/southwest-soccer-regional-competition/
LOCATION:Mt. Tahoma High School\, 4634 S 74th Street\, Tacoma\, WA\, 98409\, United States
CATEGORIES:Sports/Competition
END:VEVENT
END:VCALENDAR